BEGIN:VCALENDAR
VERSION:2.0
PRODID:-//The Lighthouse of Houston - ECPv6.15.20//NONSGML v1.0//EN
CALSCALE:GREGORIAN
METHOD:PUBLISH
X-ORIGINAL-URL:https://houstonlighthouse.org
X-WR-CALDESC:Events for The Lighthouse of Houston
REFRESH-INTERVAL;VALUE=DURATION:PT1H
X-Robots-Tag:noindex
X-PUBLISHED-TTL:PT1H
BEGIN:VTIMEZONE
TZID:America/Chicago
BEGIN:DAYLIGHT
TZOFFSETFROM:-0600
TZOFFSETTO:-0500
TZNAME:CDT
DTSTART:20230312T080000
END:DAYLIGHT
BEGIN:STANDARD
TZOFFSETFROM:-0500
TZOFFSETTO:-0600
TZNAME:CST
DTSTART:20231105T070000
END:STANDARD
BEGIN:DAYLIGHT
TZOFFSETFROM:-0600
TZOFFSETTO:-0500
TZNAME:CDT
DTSTART:20240310T080000
END:DAYLIGHT
BEGIN:STANDARD
TZOFFSETFROM:-0500
TZOFFSETTO:-0600
TZNAME:CST
DTSTART:20241103T070000
END:STANDARD
BEGIN:DAYLIGHT
TZOFFSETFROM:-0600
TZOFFSETTO:-0500
TZNAME:CDT
DTSTART:20250309T080000
END:DAYLIGHT
BEGIN:STANDARD
TZOFFSETFROM:-0500
TZOFFSETTO:-0600
TZNAME:CST
DTSTART:20251102T070000
END:STANDARD
END:VTIMEZONE
BEGIN:VEVENT
DTSTART;TZID=America/Chicago:20240330T100000
DTEND;TZID=America/Chicago:20240330T120000
DTSTAMP:20260424T121828
CREATED:20240217T054855Z
LAST-MODIFIED:20240325T155955Z
UID:10002940-1711792800-1711800000@houstonlighthouse.org
SUMMARY:LOH - Beeping Easter Egg Hunt
DESCRIPTION:Our Beeping Easter Egg Hunt is an inclusive event that provides children\, teens and young adults who are blind or low vision and their families an opportunity to hunt for beeping Easter eggs and participate in other super fun accessible activities. Compassionate volunteers will assist while parents are able to take pictures and enjoy seeing their youngest hunt for eggs. This social event creates opportunities for families to socialize and engage with other families. A huge thank you to BP for helping sponsor this event! \nMeet and greet the Easter Bunny\, indulge in delicious snow cones\, spend time with adorable therapy dogs\, and be entertained by fun-loving clowns. Don’t forget to bring your Easter basket or a bag to collect eggs in – it’s going to be an egg-cellent time for the whole family! \nFor more information please contact Krystian Colley at 713-284-8424 or email kcolley@houstonlighthouse.org. \nRegister Online\n\n\n                \n                        \n							"*" indicates required fields \n                        					\n						Δ\n						\n						\n\n					\n                        URLThis field is for validation purposes and should be left unchanged.Name*\n                            \n                            \n                                                    First\n                                                    \n                                                \n                            \n                            \n                                                            Last\n                                                            \n                                                        \n                            \n                        Name(s) of ParticipantsEmail*\n                            \n                        PhoneAddress*    \n                    \n                         \n                                        Street Address\n                                        \n                                   \n                                    City\n                                    \n                                 \n                                        State\n                                        AlabamaAlaskaAmerican SamoaArizonaArkansasCaliforniaColoradoConnecticutDelawareDistrict of ColumbiaFloridaGeorgiaGuamHawaiiIdahoIllinoisIndianaIowaKansasKentuckyLouisianaMaineMarylandMassachusettsMichiganMinnesotaMississippiMissouriMontanaNebraskaNevadaNew HampshireNew JerseyNew MexicoNew YorkNorth CarolinaNorth DakotaNorthern Mariana IslandsOhioOklahomaOregonPennsylvaniaPuerto RicoRhode IslandSouth CarolinaSouth DakotaTennesseeTexasUtahU.S. Virgin IslandsVermontVirginiaWashingtonWest VirginiaWisconsinWyomingArmed Forces AmericasArmed Forces EuropeArmed Forces Pacific\n                                      \n                                    ZIP Code\n                                    \n                                \n                    \n                How did you hear about this event?Social MediaGoogleWord of MouthRefer a FriendPast ParticipantOther
URL:https://houstonlighthouse.org/event/beeping-easter-egg-hunt-2024/
LOCATION:The Lighthouse of Houston\, 3602 West Dallas\, Houston\, TX\, 77019\, United States
ATTACH;FMTTYPE=image/jpeg:https://eadn-wc02-10923896.nxedge.io/wp-content/uploads/2024/02/Beeping-Easter-Egg-Hunt-2024.jpg
GEO:29.7578318;-95.4071468
X-APPLE-STRUCTURED-LOCATION;VALUE=URI;X-ADDRESS=The Lighthouse of Houston 3602 West Dallas Houston TX 77019 United States;X-APPLE-RADIUS=500;X-TITLE=3602 West Dallas:geo:-95.4071468,29.7578318
END:VEVENT
BEGIN:VEVENT
DTSTART;TZID=America/Chicago:20240322T183000
DTEND;TZID=America/Chicago:20240322T203000
DTSTAMP:20260424T121828
CREATED:20240209T113741Z
LAST-MODIFIED:20240403T210324Z
UID:10000584-1711132200-1711139400@houstonlighthouse.org
SUMMARY:Wine 101 Tasting - SOLD OUT
DESCRIPTION:This event is now sold out. \nWhether you’re a seasoned connoisseur or a curious novice\, there’s no better way to explore the wondrous world of wine than among good company and great food. Join us for a unique wine tasting experience designed for individuals who are blind or low vision! \nExperience our Wine 101 tasting event Friday\, March 22nd at The Lighthouse of Houston! Enjoy five different types of wine\, ranging from whites to reds\, paired with food or hors d’oeuvres chosen to complement and enhance your tasting experience. Participants must be over the age of 21\, and space is limited\, so be sure to reserve your glass today! \nA huge thank you to our sponsor for the event\, Chris Hartman\, Certified Specialist of Wine & Local Wine Professional!
URL:https://houstonlighthouse.org/event/wine-101-tasting/
LOCATION:The Lighthouse of Houston\, 3602 West Dallas\, Houston\, TX\, 77019\, United States
CATEGORIES:Community Events
ATTACH;FMTTYPE=image/jpeg:https://eadn-wc02-10923896.nxedge.io/wp-content/uploads/2024/02/Wine-Tasting.jpg
GEO:29.7578318;-95.4071468
X-APPLE-STRUCTURED-LOCATION;VALUE=URI;X-ADDRESS=The Lighthouse of Houston 3602 West Dallas Houston TX 77019 United States;X-APPLE-RADIUS=500;X-TITLE=3602 West Dallas:geo:-95.4071468,29.7578318
END:VEVENT
BEGIN:VEVENT
DTSTART;TZID=America/Chicago:20240315T160000
DTEND;TZID=America/Chicago:20240315T190000
DTSTAMP:20260424T121828
CREATED:20240225T143225Z
LAST-MODIFIED:20240403T210342Z
UID:10002944-1710518400-1710529200@houstonlighthouse.org
SUMMARY:Swimming For All - Family Swim
DESCRIPTION:Dive into fun with our Swimming For All – Family Swim event for people who have blind or low vision family members!\n\nJoin us Friday\, March 15th from 4PM-7PM for an evening of splashing and bonding with your loved ones. This event is FREE for all ages\, but make sure parents stick around to enjoy the water with their family members. Don’t miss out on this opportunity to create lasting memories together!\n\nCall 713-284-8424 or email kcolley@houstonlighthouse.org for more information.\n\n\nRegister Online\n\n\n                \n                        \n							"*" indicates required fields \n                        					\n						Δ\n						\n						\n\n					\n                        URLThis field is for validation purposes and should be left unchanged.Name*\n                            \n                            \n                                                    First\n                                                    \n                                                \n                            \n                            \n                                                            Last\n                                                            \n                                                        \n                            \n                        Name(s) of Additional Family Members Planning to SwimEmail*\n                            \n                        PhoneAddress*    \n                    \n                         \n                                        Street Address\n                                        \n                                   \n                                    City\n                                    \n                                 \n                                        State\n                                        AlabamaAlaskaAmerican SamoaArizonaArkansasCaliforniaColoradoConnecticutDelawareDistrict of ColumbiaFloridaGeorgiaGuamHawaiiIdahoIllinoisIndianaIowaKansasKentuckyLouisianaMaineMarylandMassachusettsMichiganMinnesotaMississippiMissouriMontanaNebraskaNevadaNew HampshireNew JerseyNew MexicoNew YorkNorth CarolinaNorth DakotaNorthern Mariana IslandsOhioOklahomaOregonPennsylvaniaPuerto RicoRhode IslandSouth CarolinaSouth DakotaTennesseeTexasUtahU.S. Virgin IslandsVermontVirginiaWashingtonWest VirginiaWisconsinWyomingArmed Forces AmericasArmed Forces EuropeArmed Forces Pacific\n                                      \n                                    ZIP Code\n                                    \n                                \n                    \n                How did you hear about this event?Social MediaGoogleWord of MouthRefer a FriendPast ParticipantOther
URL:https://houstonlighthouse.org/event/swimming-for-all-family-swim/
LOCATION:The Lighthouse of Houston\, 3602 West Dallas\, Houston\, TX\, 77019\, United States
CATEGORIES:Adult Events,Youth Events
ATTACH;FMTTYPE=image/jpeg:https://eadn-wc02-10923896.nxedge.io/wp-content/uploads/2024/02/Swimming-For-All-Family-Swim.jpg
GEO:29.7578318;-95.4071468
X-APPLE-STRUCTURED-LOCATION;VALUE=URI;X-ADDRESS=The Lighthouse of Houston 3602 West Dallas Houston TX 77019 United States;X-APPLE-RADIUS=500;X-TITLE=3602 West Dallas:geo:-95.4071468,29.7578318
END:VEVENT
BEGIN:VEVENT
DTSTART;TZID=America/Chicago:20240311T073000
DTEND;TZID=America/Chicago:20240315T170000
DTSTAMP:20260424T121828
CREATED:20240225T141014Z
LAST-MODIFIED:20240311T153309Z
UID:10002943-1710142200-1710522000@houstonlighthouse.org
SUMMARY:LOH - CANCELED - Spring Break Youth Camp
DESCRIPTION:CANCELED – We hope to see you for our Summer Youth Camp scheduled for June 10\, 2024 to June 28\, 2024 and July 8\, 2024 to August 2\, 2024. For more information please contact Krystian Colley at 713-284-8424 or email kcolley@houstonlighthouse.org. \nSpring Break Youth Camp is for children who are blind or low vision ages 5-12. Join us for fun games\, activities\, friendship\, laughter and much more! \nCamp Dates: Monday\, March 11th\, 2024 to Friday\, March 15th\, 2024.\nCamp Hours: 7:30am to 5:00pm\nCamp Fees: $40 per day. Includes all activities\, lunch and snack. Financial assistance is available. Please contact us for eligibility. \nFor more information please contact Krystian Colley at 713-284-8424 or email kcolley@houstonlighthouse.org. \nRegister Online\n\n                \n                        \n							"*" indicates required fields \n                        					\n						Δ\n						\n						\n\n					\n                        URLThis field is for validation purposes and should be left unchanged.Name*\n                            \n                            \n                                                    First\n                                                    \n                                                \n                            \n                            \n                                                            Last\n                                                            \n                                                        \n                            \n                        Name(s) of ParticipantsPlease select the days you plan on attending:*\n								\n								Monday\n							\n								\n								Tuesday\n							\n								\n								Wednesday\n							\n								\n								Thursday\n							\n								\n								Friday\n							Select AllEmail*\n                            \n                        PhoneAddress*    \n                    \n                         \n                                        Street Address\n                                        \n                                   \n                                    City\n                                    \n                                 \n                                        State\n                                        AlabamaAlaskaAmerican SamoaArizonaArkansasCaliforniaColoradoConnecticutDelawareDistrict of ColumbiaFloridaGeorgiaGuamHawaiiIdahoIllinoisIndianaIowaKansasKentuckyLouisianaMaineMarylandMassachusettsMichiganMinnesotaMississippiMissouriMontanaNebraskaNevadaNew HampshireNew JerseyNew MexicoNew YorkNorth CarolinaNorth DakotaNorthern Mariana IslandsOhioOklahomaOregonPennsylvaniaPuerto RicoRhode IslandSouth CarolinaSouth DakotaTennesseeTexasUtahU.S. Virgin IslandsVermontVirginiaWashingtonWest VirginiaWisconsinWyomingArmed Forces AmericasArmed Forces EuropeArmed Forces Pacific\n                                      \n                                    ZIP Code\n                                    \n                                \n                    \n                How did you hear about this event?Social MediaGoogleWord of MouthRefer a FriendPast ParticipantOtherThe Lighthouse of Houston Quantity\n					\n					\n						Price:\n						$0.00\n					\n					\n					 Quantity \n				Total\n							\n						Credit Card*Configuration Required: To use the Square field\, please configure your Square Settings.Untitled\n								\n								First Choice\n							\n								\n								Second Choice\n							\n								\n								Third Choice\n							NumberUntitled\n								\n								First Choice\n							\n								\n								Second Choice\n							\n								\n								Third Choice
URL:https://houstonlighthouse.org/event/spring-break-youth-camp/
LOCATION:The Lighthouse of Houston\, 3602 West Dallas\, Houston\, TX\, 77019\, United States
CATEGORIES:Youth Events
ATTACH;FMTTYPE=image/jpeg:https://eadn-wc02-10923896.nxedge.io/wp-content/uploads/2024/02/Spring-Break-Youth-Camp-cover.jpg
GEO:29.7578318;-95.4071468
X-APPLE-STRUCTURED-LOCATION;VALUE=URI;X-ADDRESS=The Lighthouse of Houston 3602 West Dallas Houston TX 77019 United States;X-APPLE-RADIUS=500;X-TITLE=3602 West Dallas:geo:-95.4071468,29.7578318
END:VEVENT
BEGIN:VEVENT
DTSTART;TZID=America/Chicago:20240306T110000
DTEND;TZID=America/Chicago:20240306T120000
DTSTAMP:20260424T121828
CREATED:20240225T154600Z
LAST-MODIFIED:20240226T155905Z
UID:10002945-1709722800-1709726400@houstonlighthouse.org
SUMMARY:LOH - Get to Know HAVIN - Virtual Workshop
DESCRIPTION:In this online presentation\, you will learn everything you need to know about HAVIN\, the Houston Area Visually Impaired Network. \nHAVIN is a 501(c)(3) nonprofit organization comprised of various volunteer groups and organizations from across Houston that serve the information\, resource\, and support needs of the blind and visually impaired. Their vision is to educate\, provide peer support\, and unify the blind and visually impaired community in the Greater Houston area. Their mission is to provide training\, education\, workshops\, seminars\, and mentorship to the blind and visually impaired Community\, providing skills and resources to help individuals live full and independent lives. \nWatch live on Facebook. \nWatch live on YouTube.
URL:https://houstonlighthouse.org/event/get-to-know-havin-virtual-workshop/
LOCATION:The Lighthouse of Houston\, 3602 West Dallas\, Houston\, TX\, 77019\, United States
ATTACH;FMTTYPE=image/jpeg:https://eadn-wc02-10923896.nxedge.io/wp-content/uploads/2024/02/HAVIN.jpg
GEO:29.7578318;-95.4071468
X-APPLE-STRUCTURED-LOCATION;VALUE=URI;X-ADDRESS=The Lighthouse of Houston 3602 West Dallas Houston TX 77019 United States;X-APPLE-RADIUS=500;X-TITLE=3602 West Dallas:geo:-95.4071468,29.7578318
END:VEVENT
BEGIN:VEVENT
DTSTART;TZID=America/Chicago:20240224T160000
DTEND;TZID=America/Chicago:20240224T180000
DTSTAMP:20260424T121828
CREATED:20240222T191605Z
LAST-MODIFIED:20240222T191808Z
UID:10002942-1708790400-1708797600@houstonlighthouse.org
SUMMARY:A Light in the Dark: Life Filled with Gratitude in Any Situation - Presentation by Hiro Iwamoto
DESCRIPTION:Discover the inspiring journey of a blind boy who overcame depression and found hope. Learn how he turned his life around to attempt sailing across the Pacific in 2013 only to be capsized by a whale larger than his sail boat\, and surviving near death until rescued by a Japanese Self Defense Task Force. Learn how he overcame this near death failure six years later when Hiro became the first blind sailor to sail across the Pacific.\n\nHiro’s amazing and inspiring story has been covered internationally by BBC News\, has appeared on many US news programs\, and has been featured in many newspaper and magazine articles.\n\nThis presentation will be in-person at The Lighthouse of Houston and online February 24\, 2024 from 4PM to 6PM CST.\n\nClick here for more information and get your ticket today.
URL:https://houstonlighthouse.org/event/presentation-by-hiro-iwamoto/
LOCATION:The Lighthouse of Houston\, 3602 West Dallas\, Houston\, TX\, 77019\, United States
CATEGORIES:Presentations and Workshops
ATTACH;FMTTYPE=image/jpeg:https://eadn-wc02-10923896.nxedge.io/wp-content/uploads/2024/02/Hiro-Iwamoto.jpg
GEO:29.7578318;-95.4071468
X-APPLE-STRUCTURED-LOCATION;VALUE=URI;X-ADDRESS=The Lighthouse of Houston 3602 West Dallas Houston TX 77019 United States;X-APPLE-RADIUS=500;X-TITLE=3602 West Dallas:geo:-95.4071468,29.7578318
END:VEVENT
END:VCALENDAR