BEGIN:VCALENDAR
VERSION:2.0
PRODID:-//The Lighthouse of Houston - ECPv6.15.20//NONSGML v1.0//EN
CALSCALE:GREGORIAN
METHOD:PUBLISH
X-WR-CALNAME:The Lighthouse of Houston
X-ORIGINAL-URL:https://houstonlighthouse.org
X-WR-CALDESC:Events for The Lighthouse of Houston
REFRESH-INTERVAL;VALUE=DURATION:PT1H
X-Robots-Tag:noindex
X-PUBLISHED-TTL:PT1H
BEGIN:VTIMEZONE
TZID:America/Chicago
BEGIN:DAYLIGHT
TZOFFSETFROM:-0600
TZOFFSETTO:-0500
TZNAME:CDT
DTSTART:20240310T080000
END:DAYLIGHT
BEGIN:STANDARD
TZOFFSETFROM:-0500
TZOFFSETTO:-0600
TZNAME:CST
DTSTART:20241103T070000
END:STANDARD
BEGIN:DAYLIGHT
TZOFFSETFROM:-0600
TZOFFSETTO:-0500
TZNAME:CDT
DTSTART:20250309T080000
END:DAYLIGHT
BEGIN:STANDARD
TZOFFSETFROM:-0500
TZOFFSETTO:-0600
TZNAME:CST
DTSTART:20251102T070000
END:STANDARD
BEGIN:DAYLIGHT
TZOFFSETFROM:-0600
TZOFFSETTO:-0500
TZNAME:CDT
DTSTART:20260308T080000
END:DAYLIGHT
BEGIN:STANDARD
TZOFFSETFROM:-0500
TZOFFSETTO:-0600
TZNAME:CST
DTSTART:20261101T070000
END:STANDARD
BEGIN:DAYLIGHT
TZOFFSETFROM:-0600
TZOFFSETTO:-0500
TZNAME:CDT
DTSTART:20270314T080000
END:DAYLIGHT
BEGIN:STANDARD
TZOFFSETFROM:-0500
TZOFFSETTO:-0600
TZNAME:CST
DTSTART:20271107T070000
END:STANDARD
END:VTIMEZONE
BEGIN:VEVENT
DTSTART;TZID=America/Chicago:20260321T130000
DTEND;TZID=America/Chicago:20260321T150000
DTSTAMP:20260424T172610
CREATED:20251229T193742Z
LAST-MODIFIED:20251229T194441Z
UID:10008123-1774098000-1774105200@houstonlighthouse.org
SUMMARY:Monthly Creating with Blind Abandon All Ages Art Class - March 2026
DESCRIPTION:Join us for a monthly art experience at The Lighthouse of Houston\, in partnership with Creating With Blind Abandon. Explore your creativity\, try new techniques\, and express yourself in a welcoming\, supportive space where your ideas come to life. \nRegister Online\n\n\n                \n                        \n							"*" indicates required fields \n                        					\n						Δ\n						\n						\n\n					\n                        X/TwitterThis field is for validation purposes and should be left unchanged.Name*\n                            \n                            \n                                                    First\n                                                    \n                                                \n                            \n                            \n                                                            Last\n                                                            \n                                                        \n                            \n                        Email*\n                            \n                        PhoneAddress    \n                    \n                         \n                                        Street Address\n                                        \n                                   \n                                    City\n                                    \n                                 \n                                        State\n                                        AlabamaAlaskaAmerican SamoaArizonaArkansasCaliforniaColoradoConnecticutDelawareDistrict of ColumbiaFloridaGeorgiaGuamHawaiiIdahoIllinoisIndianaIowaKansasKentuckyLouisianaMaineMarylandMassachusettsMichiganMinnesotaMississippiMissouriMontanaNebraskaNevadaNew HampshireNew JerseyNew MexicoNew YorkNorth CarolinaNorth DakotaNorthern Mariana IslandsOhioOklahomaOregonPennsylvaniaPuerto RicoRhode IslandSouth CarolinaSouth DakotaTennesseeTexasUtahU.S. Virgin IslandsVermontVirginiaWashingtonWest VirginiaWisconsinWyomingArmed Forces AmericasArmed Forces EuropeArmed Forces Pacific\n                                      \n                                    ZIP Code
URL:https://houstonlighthouse.org/event/monthly-creating-with-blind-abandon-all-ages-art-class-march-2026/
LOCATION:The Lighthouse of Houston\, 3602 West Dallas\, Houston\, TX\, 77019\, United States
CATEGORIES:Adult Events,Community Events,Youth Events
ATTACH;FMTTYPE=image/jpeg:https://eadn-wc02-10923896.nxedge.io/wp-content/uploads/2024/11/paintbrush-1.jpg
ORGANIZER;CN="The Lighthouse of Houston":MAILTO:info@houstonlighthouse.org
GEO:29.7578318;-95.4071468
X-APPLE-STRUCTURED-LOCATION;VALUE=URI;X-ADDRESS=The Lighthouse of Houston 3602 West Dallas Houston TX 77019 United States;X-APPLE-RADIUS=500;X-TITLE=3602 West Dallas:geo:-95.4071468,29.7578318
END:VEVENT
BEGIN:VEVENT
DTSTART;TZID=America/Chicago:20260320T180000
DTEND;TZID=America/Chicago:20260320T200000
DTSTAMP:20260424T172610
CREATED:20251226T204416Z
LAST-MODIFIED:20260317T165432Z
UID:10008109-1774029600-1774036800@houstonlighthouse.org
SUMMARY:Monthly SINGO Bingo 2026 - March
DESCRIPTION:Turn the volume up and the worries down—SINGO Bingo is back\, and it’s here to play louder than ordinary bingo ever could. \nThis monthly favorite blends the joy of music with the thrill of the game. Songs replace numbers\, laughter replaces silence\, and every round becomes a shared rhythm of anticipation. Designed with accessibility at the center\, SINGO Bingo features Braille and large-print cards so participants who are blind or low vision can play fully\, confidently\, and independently. \nFree and open to the community\, this is a night to unwind\, connect\, and let the music carry you. No pressure. No experience required. Just good company\, great sound\, and a little luck along the way. \nSpots fill quickly—register HERE and claim your seat at the table.
URL:https://houstonlighthouse.org/event/monthly-singo-bingo-2026-march/
LOCATION:The Lighthouse of Houston\, 3602 West Dallas\, Houston\, TX\, 77019\, United States
CATEGORIES:Adult Events,Community Events
ATTACH;FMTTYPE=image/png:https://eadn-wc02-10923896.nxedge.io/wp-content/uploads/2024/12/SINGO-bingo.png
ORGANIZER;CN="The Lighthouse of Houston":MAILTO:info@houstonlighthouse.org
GEO:29.7578318;-95.4071468
X-APPLE-STRUCTURED-LOCATION;VALUE=URI;X-ADDRESS=The Lighthouse of Houston 3602 West Dallas Houston TX 77019 United States;X-APPLE-RADIUS=500;X-TITLE=3602 West Dallas:geo:-95.4071468,29.7578318
END:VEVENT
BEGIN:VEVENT
DTSTART;TZID=America/Chicago:20260228T140000
DTEND;TZID=America/Chicago:20260228T170000
DTSTAMP:20260424T172610
CREATED:20260128T180621Z
LAST-MODIFIED:20260209T205636Z
UID:10008150-1772287200-1772298000@houstonlighthouse.org
SUMMARY:Boots & Buckles Family Rodeo Event - 2026
DESCRIPTION:Boots & Buckles Rodeo\nSaturday\, February 28\, 2026\n2:00 PM – 5:00 PM\nDust in the air. Music in your bones. Laughter riding the wind. \nThe Boots & Buckles Rodeo is back — our annual family rodeo-style celebration where community meets country soul and joy runs wild. This is an afternoon built for connection\, rhythm\, and unforgettable moments\, all wrapped in Texas spirit. \nWhat’s waiting for you:\n• Live music\n• Dancing\n• BBQ\n• Mechanical bull rides\n• Family-friendly fun for all ages \nThis isn’t just a rodeo — it’s a gathering of hearts\, a chorus of voices\, a place where families show up as they are and leave lighter than they came. \nPull on your boots. Bring your people. Let the good times ride. \nRegister Here!
URL:https://houstonlighthouse.org/event/boots-buckles-family-rodeo-event-2026/
LOCATION:The Lighthouse of Houston\, 3602 West Dallas\, Houston\, TX\, 77019\, United States
CATEGORIES:Community Events
ATTACH;FMTTYPE=image/png:https://eadn-wc02-10923896.nxedge.io/wp-content/uploads/2026/01/Boots-and-Buckles-Rodeo-Event-2026_Website-cover-graphic.png
ORGANIZER;CN="The Lighthouse of Houston":MAILTO:info@houstonlighthouse.org
GEO:29.7578318;-95.4071468
X-APPLE-STRUCTURED-LOCATION;VALUE=URI;X-ADDRESS=The Lighthouse of Houston 3602 West Dallas Houston TX 77019 United States;X-APPLE-RADIUS=500;X-TITLE=3602 West Dallas:geo:-95.4071468,29.7578318
END:VEVENT
BEGIN:VEVENT
DTSTART;TZID=America/Chicago:20260207T090000
DTEND;TZID=America/Chicago:20260207T120000
DTSTAMP:20260424T172610
CREATED:20251212T202734Z
LAST-MODIFIED:20251212T202734Z
UID:10007244-1770454800-1770465600@houstonlighthouse.org
SUMMARY:The 2026 Lighthouse Spring Health Fair
DESCRIPTION:Join Us at The 2026 Lighthouse Spring Health Fair for People who are Blind\, Low Vision\, or have a Disability! \nDate & Time:Saturday\, February 7\, 20269:00 AM – 12:00 PM \nLocation:The Lighthouse of Houston3602 West Dallas St\, Houston\, TX 77019 \nEvent Description:Join us for a community-focused health fair offering free health screenings\, flu and COVID-19 vaccinations\, massage therapy demonstration\, behavioral health sessions\, and diabetes and vision-related wellness tips. Connect with local nonprofits to explore resources for transportation\, housing\, and benefits assistance. A simple way to strengthen your health and discover support that lasts. \nEvent Highlights: \nHealth & Community Resources \n\nFree health screenings and vaccinations (flu and COVID-19)\nMassage therapy demonstration\nBehavioral health and wellness sessions\nDiabetes education and vision-specific health tips\nConnect with local nonprofits and support organizations\nLearn about transportation\, housing\, and benefits assistance\n\nDon’t miss out—register today! \nFor more information\, contact us at 713-527-9561. \nRegister Here: \n\n                \n                        \n                            The 2026 Lighthouse Spring Health Fair\n                             \n							"*" indicates required fields \n                        					\n						Δ\n						\n						\n\n					\n                        EmailThis field is for validation purposes and should be left unchanged.Contact Name*\n                            \n                            \n                                                    First\n                                                    \n                                                \n                            \n                            \n                                                            Last\n                                                            \n                                                        \n                            \n                        Email*\n                            \n                        PhoneHow will you be joining us for the Health Fair?  (Required)*Select the option that best describes the person you’re registering.\n			\n					\n					Attendee\n			\n			\n					\n					Volunteer – Helping at the event (NOTE: All volunteers must complete this registration form to participate)\n			Volunteer InformationIf you are signing up to volunteer\, please contact Ruby Cabral by email at ecabral@houstonlighthouse.org for more information about the event and to receive  your assignment and the documents that must be completed prior to the event. Please select the option that best describes your vision:\n			\n					\n					Blind\n			\n			\n					\n					Low Vision\n			\n			\n					\n					Fully Sighted\n			\n			\n					\n					Prefer not to say\n			Age Group (Required)*\n			\n					\n					Youth (6-15)\n			\n			\n					\n					Youth (16-19)\n			\n			\n					\n					Adult (20-34)\n			\n			\n					\n					Adult (35-54)\n			\n			\n					\n					Adult (55+)\n			Name(s) of Additional AttendeesAddress    \n                    \n                         \n                                        Street Address\n                                        \n                                   \n                                    City\n                                    \n                                 \n                                        State\n                                        AlabamaAlaskaAmerican SamoaArizonaArkansasCaliforniaColoradoConnecticutDelawareDistrict of ColumbiaFloridaGeorgiaGuamHawaiiIdahoIllinoisIndianaIowaKansasKentuckyLouisianaMaineMarylandMassachusettsMichiganMinnesotaMississippiMissouriMontanaNebraskaNevadaNew HampshireNew JerseyNew MexicoNew YorkNorth CarolinaNorth DakotaNorthern Mariana IslandsOhioOklahomaOregonPennsylvaniaPuerto RicoRhode IslandSouth CarolinaSouth DakotaTennesseeTexasUtahU.S. Virgin IslandsVermontVirginiaWashingtonWest VirginiaWisconsinWyomingArmed Forces AmericasArmed Forces EuropeArmed Forces Pacific\n                                      \n                                    ZIP Code\n                                    \n                                \n                    \n                How did you hear about this event?Social MediaGoogleWord of MouthRefer a FriendPast ParticipantOther\n          \n            \n            \n            \n            \n            \n            \n            \n            \n            \n            \n            \n            \n            \n        \n                        \n                        \n\n  \n  \n 
URL:https://houstonlighthouse.org/event/spring-health-fair-2026/
LOCATION:The Lighthouse of Houston\, 3602 West Dallas\, Houston\, TX\, 77019\, United States
CATEGORIES:Community Events,Health Services
ATTACH;FMTTYPE=image/png:https://eadn-wc02-10923896.nxedge.io/wp-content/uploads/2025/12/Event-Cover-Photo_LOH-Spring-Health-Fair-2026.png
ORGANIZER;CN="The Lighthouse of Houston":MAILTO:info@houstonlighthouse.org
GEO:29.7578318;-95.4071468
X-APPLE-STRUCTURED-LOCATION;VALUE=URI;X-ADDRESS=The Lighthouse of Houston 3602 West Dallas Houston TX 77019 United States;X-APPLE-RADIUS=500;X-TITLE=3602 West Dallas:geo:-95.4071468,29.7578318
END:VEVENT
BEGIN:VEVENT
DTSTART;TZID=America/Chicago:20260123T180000
DTEND;TZID=America/Chicago:20260123T200000
DTSTAMP:20260424T172610
CREATED:20251226T203750Z
LAST-MODIFIED:20260105T205711Z
UID:10008107-1769191200-1769198400@houstonlighthouse.org
SUMMARY:Monthly SINGO Bingo 2026 - January
DESCRIPTION:Turn the volume up and the worries down—SINGO Bingo is back\, and it’s here to play louder than ordinary bingo ever could. \nThis monthly favorite blends the joy of music with the thrill of the game. Songs replace numbers\, laughter replaces silence\, and every round becomes a shared rhythm of anticipation. Designed with accessibility at the center\, SINGO Bingo features Braille and large-print cards so participants who are blind or low vision can play fully\, confidently\, and independently. \nFree and open to the community\, this is a night to unwind\, connect\, and let the music carry you. No pressure. No experience required. Just good company\, great sound\, and a little luck along the way. \nSpots fill quickly—register online and claim your seat at the table. \n\n                \n                        \n							"*" indicates required fields \n                        					\n						Δ\n						\n						\n\n					\n                        LinkedInThis field is for validation purposes and should be left unchanged.Name*\n                            \n                            \n                                                    First\n                                                    \n                                                \n                            \n                            \n                                                            Last\n                                                            \n                                                        \n                            \n                        Email*\n                            \n                        PhoneAddress    \n                    \n                         \n                                        Street Address\n                                        \n                                   \n                                    City\n                                    \n                                 \n                                        State\n                                        AlabamaAlaskaAmerican SamoaArizonaArkansasCaliforniaColoradoConnecticutDelawareDistrict of ColumbiaFloridaGeorgiaGuamHawaiiIdahoIllinoisIndianaIowaKansasKentuckyLouisianaMaineMarylandMassachusettsMichiganMinnesotaMississippiMissouriMontanaNebraskaNevadaNew HampshireNew JerseyNew MexicoNew YorkNorth CarolinaNorth DakotaNorthern Mariana IslandsOhioOklahomaOregonPennsylvaniaPuerto RicoRhode IslandSouth CarolinaSouth DakotaTennesseeTexasUtahU.S. Virgin IslandsVermontVirginiaWashingtonWest VirginiaWisconsinWyomingArmed Forces AmericasArmed Forces EuropeArmed Forces Pacific\n                                      \n                                    ZIP Code
URL:https://houstonlighthouse.org/event/monthly-singo-bingo-2026-january/
LOCATION:The Lighthouse of Houston\, 3602 West Dallas\, Houston\, TX\, 77019\, United States
CATEGORIES:Adult Events,Community Events
ATTACH;FMTTYPE=image/png:https://eadn-wc02-10923896.nxedge.io/wp-content/uploads/2024/12/SINGO-bingo.png
ORGANIZER;CN="The Lighthouse of Houston":MAILTO:info@houstonlighthouse.org
GEO:29.7578318;-95.4071468
X-APPLE-STRUCTURED-LOCATION;VALUE=URI;X-ADDRESS=The Lighthouse of Houston 3602 West Dallas Houston TX 77019 United States;X-APPLE-RADIUS=500;X-TITLE=3602 West Dallas:geo:-95.4071468,29.7578318
END:VEVENT
BEGIN:VEVENT
DTSTART;VALUE=DATE:20251107
DTEND;VALUE=DATE:20251108
DTSTAMP:20260424T172610
CREATED:20250902T051250Z
LAST-MODIFIED:20251028T143657Z
UID:10007142-1762473600-1762559999@houstonlighthouse.org
SUMMARY:Texas BVI Fall Field Fest 2025- November 7
DESCRIPTION:This November 7: Experience the First Texas BVI Fall Field Fest!  \nDate & Time:Friday\, November 7\, 2025Time: Youth: 9:30 am – noon | Adult: 12:30 – 2 pm \nLocation:Houston Sports Park12131 Kirby Dr\, Houston\, TX 77045 \nEvent Description:Join us Friday\, November 7\, 2025\, at Houston Sports Park for an accessible sports field day for youth and adults who are blind or low vision as we bring together an estimated 500 participants for a full day of sports\, games\, and community at the Texas BVI Fall Field Fest! The morning kicks off with youth activities from 9:30 am–12:00 pm\, followed by a community lunch from 11:00 am–1:30 pm. In the afternoon\, adult activities run from 12:30–2:30 pm\, featuring two dynamic fields of FUN: \nField 1: Introduction to Sports – Try your hand at Blind Soccer\, Beep Baseball\, Blind Tennis\, and Blind Fencing\, with more sports to come!\nField 2: Field Day Games – Classic competitions like Tug of War\, Long Jump\, Ball Toss\, Running with Tethers\, and other adaptive favorites. \nWith cooling and rest stations under the tents\, this event is designed for connection\, challenge\, and celebration. \nPresented by The Lighthouse of Houston\, in partnership with the Houston Dynamo and Dash. \nBe part of it! Registration is below.\nFor more information\, contact us at 713-527-9561.  Sponsorships are now closed. If you are interested in volunteering for the event instead\, please reach out to the phone number above. \n\n                \n                        \n                            Texas BVI Fall Field Fest Registration — November 7\, 2025\n                             \n							"*" indicates required fields \n                        					\n						Δ\n						\n						\n\n					\n                        PhoneThis field is for validation purposes and should be left unchanged.Section 1 — Participant InformationAre you registering for a minor? (Required)*\n			\n					\n					Yes\n			\n			\n					\n					No\n			Full Name of Registrant (Required)*\n                            \n                            \n                                                    First\n                                                    \n                                                \n                            \n                            \n                                                            Last\n                                                            \n                                                        \n                            \n                        How will you be joining us for Fall Field Fest? (Required)*Select the option that best describes the person you’re registering.\n			\n					\n					Participant – joining the activities\n			\n			\n					\n					Volunteer – helping at the event (NOTE: all volunteers must complete this registration form to participate in Fall Field Fest)\n			Volunteer InformationIf you are signing up to volunteer\, please contact Kathy Trimm by email at ktrimm@houstonlighthouse.org  or call 832-630-5125 for more information about the event and to receive the documents that must be completed prior to the event. Volunteers may choose to work morning or afternoon shifts — please let Kathy know your preference.Parent/Guardian Full Name (Required if registering a minor)\n                            \n                            \n                                                    First\n                                                    \n                                                \n                            \n                            \n                                                            Last\n                                                            \n                                                        \n                            \n                        Section 2 — Age & School InformationAge Group  (Required)\n								\n								Youth (6–10)\n							\n								\n								Youth (11–15)\n							\n								\n								Youth (16–19)\n							\n								\n								Adult (20–34)\n							\n								\n								Adult (35–54)\n							\n								\n								Adult (55+)\n							School District (Required if youth)*Select from the list ▼Houston ISDCypress-Fairbanks ISDSpring ISDKaty ISDOtherIf "Other"\, please specify your school district.Transportation Method (Required if youth)\n			\n					\n					Parent/Guardian pickup/drop off\n			\n			\n					\n					School bus/van\n			Teacher RegistrationIf you are a teacher\, please complete this section so we can better accommodate you.Are you a teacher? (Required)\n			\n					\n					Yes\n			\n			\n					\n					No\n			School Name (Required if teacher)Contact InformationEmail*\n                            \n                        PhoneAddress*    \n                    \n                         \n                                        Street Address\n                                        \n                                   \n                                    City\n                                    \n                                 \n                                        State\n                                        AlabamaAlaskaAmerican SamoaArizonaArkansasCaliforniaColoradoConnecticutDelawareDistrict of ColumbiaFloridaGeorgiaGuamHawaiiIdahoIllinoisIndianaIowaKansasKentuckyLouisianaMaineMarylandMassachusettsMichiganMinnesotaMississippiMissouriMontanaNebraskaNevadaNew HampshireNew JerseyNew MexicoNew YorkNorth CarolinaNorth DakotaNorthern Mariana IslandsOhioOklahomaOregonPennsylvaniaPuerto RicoRhode IslandSouth CarolinaSouth DakotaTennesseeTexasUtahU.S. Virgin IslandsVermontVirginiaWashingtonWest VirginiaWisconsinWyomingArmed Forces AmericasArmed Forces EuropeArmed Forces Pacific\n                                      \n                                    ZIP Code\n                                    \n                                \n                    \n                Event DiscoveryHow did you hear about this event?Select from the list ▼Social MediaGoogleWord of MouthRefer a FriendPast ParticipantOtherAdditional InformationAdditional Notes / Special Accommodations (Optional)\n          \n            \n            \n            \n            \n            \n            \n            \n            \n            \n            \n            \n            \n            \n        \n                        \n                        \n \n  \n 
URL:https://houstonlighthouse.org/event/texas-bvi-fall-field-fest-2025/
LOCATION:Houston Sports Park\, 12131 Kirby Dr\, Houston\, TX\, 77045\, United States
CATEGORIES:Adult Events,Youth Events
ATTACH;FMTTYPE=image/jpeg:https://eadn-wc02-10923896.nxedge.io/wp-content/uploads/2025/08/BVI-Field-Day-Cover.jpg
ORGANIZER;CN="The Lighthouse of Houston":MAILTO:info@houstonlighthouse.org
GEO:29.6346962;-95.3926463
X-APPLE-STRUCTURED-LOCATION;VALUE=URI;X-ADDRESS=Houston Sports Park 12131 Kirby Dr Houston TX 77045 United States;X-APPLE-RADIUS=500;X-TITLE=12131 Kirby Dr:geo:-95.3926463,29.6346962
END:VEVENT
END:VCALENDAR