BEGIN:VCALENDAR
VERSION:2.0
PRODID:-//The Lighthouse of Houston - ECPv6.15.20//NONSGML v1.0//EN
CALSCALE:GREGORIAN
METHOD:PUBLISH
X-ORIGINAL-URL:https://houstonlighthouse.org
X-WR-CALDESC:Events for The Lighthouse of Houston
REFRESH-INTERVAL;VALUE=DURATION:PT1H
X-Robots-Tag:noindex
X-PUBLISHED-TTL:PT1H
BEGIN:VTIMEZONE
TZID:America/Chicago
BEGIN:DAYLIGHT
TZOFFSETFROM:-0600
TZOFFSETTO:-0500
TZNAME:CDT
DTSTART:20230312T080000
END:DAYLIGHT
BEGIN:STANDARD
TZOFFSETFROM:-0500
TZOFFSETTO:-0600
TZNAME:CST
DTSTART:20231105T070000
END:STANDARD
BEGIN:DAYLIGHT
TZOFFSETFROM:-0600
TZOFFSETTO:-0500
TZNAME:CDT
DTSTART:20240310T080000
END:DAYLIGHT
BEGIN:STANDARD
TZOFFSETFROM:-0500
TZOFFSETTO:-0600
TZNAME:CST
DTSTART:20241103T070000
END:STANDARD
BEGIN:DAYLIGHT
TZOFFSETFROM:-0600
TZOFFSETTO:-0500
TZNAME:CDT
DTSTART:20250309T080000
END:DAYLIGHT
BEGIN:STANDARD
TZOFFSETFROM:-0500
TZOFFSETTO:-0600
TZNAME:CST
DTSTART:20251102T070000
END:STANDARD
END:VTIMEZONE
BEGIN:VEVENT
DTSTART;TZID=America/Chicago:20240117T190000
DTEND;TZID=America/Chicago:20240117T203000
DTSTAMP:20260425T105819
CREATED:20240112T220938Z
LAST-MODIFIED:20240112T220938Z
UID:10000550-1705518000-1705523400@houstonlighthouse.org
SUMMARY:iBUG Android Insight
DESCRIPTION:Do you want to know about the accessibility features of Android devices? Do you want to know how Android devices are different from Apple devices? Do you want to become more proficient using an Android device? If you answered “yes” to any of the above questions\, then come join us for our free iBUG Android Insight training session\, facilitated by iBUG advanced members\, Ava Carruth and Harshid Trivedi. Android Insight is open to anyone desiring to become more proficient with the accessibility features on various Android devices.
URL:https://houstonlighthouse.org/event/ibug-android-insight/
CATEGORIES:Adult Events
ORGANIZER;CN="Ava Carruth":MAILTO:avacarruth3@outlook.com
END:VEVENT
END:VCALENDAR