BEGIN:VCALENDAR
VERSION:2.0
PRODID:-//The Lighthouse of Houston - ECPv6.15.20//NONSGML v1.0//EN
CALSCALE:GREGORIAN
METHOD:PUBLISH
X-ORIGINAL-URL:https://houstonlighthouse.org
X-WR-CALDESC:Events for The Lighthouse of Houston
REFRESH-INTERVAL;VALUE=DURATION:PT1H
X-Robots-Tag:noindex
X-PUBLISHED-TTL:PT1H
BEGIN:VTIMEZONE
TZID:America/Chicago
BEGIN:DAYLIGHT
TZOFFSETFROM:-0600
TZOFFSETTO:-0500
TZNAME:CDT
DTSTART:20240310T080000
END:DAYLIGHT
BEGIN:STANDARD
TZOFFSETFROM:-0500
TZOFFSETTO:-0600
TZNAME:CST
DTSTART:20241103T070000
END:STANDARD
BEGIN:DAYLIGHT
TZOFFSETFROM:-0600
TZOFFSETTO:-0500
TZNAME:CDT
DTSTART:20250309T080000
END:DAYLIGHT
BEGIN:STANDARD
TZOFFSETFROM:-0500
TZOFFSETTO:-0600
TZNAME:CST
DTSTART:20251102T070000
END:STANDARD
BEGIN:DAYLIGHT
TZOFFSETFROM:-0600
TZOFFSETTO:-0500
TZNAME:CDT
DTSTART:20260308T080000
END:DAYLIGHT
BEGIN:STANDARD
TZOFFSETFROM:-0500
TZOFFSETTO:-0600
TZNAME:CST
DTSTART:20261101T070000
END:STANDARD
END:VTIMEZONE
BEGIN:VEVENT
DTSTART;TZID=America/Chicago:20250507T130000
DTEND;TZID=America/Chicago:20250507T150000
DTSTAMP:20260425T110755
CREATED:20250303T164841Z
LAST-MODIFIED:20250303T164841Z
UID:10003609-1746622800-1746630000@houstonlighthouse.org
SUMMARY:Unleash Your Voiceover Potential: Advanced Settings and App Mastery
DESCRIPTION:Are you a seasoned Voiceover user ready to take your iPhone experience to the next level and unlock the full potential of your iPhone? \nThis advanced training course is designed to push your Voiceover knowledge beyond the basics and equip you with expert-level skills and hidden features you might not know exist. \nJoin us as we dive deep into advanced Voiceover settings and app-specific tips\, empowering you to customize your experience. \nIn this workshop\, you will: \n\nMaster advanced settings: Explore customization options for verbosity\, pronunciation\, sounds\, and haptic feedback to create a personalized and comfortable Voiceover environment.\nUnlock hidden features: Discover lesser-known gestures\, keyboard shortcuts\, and Voiceover rotor configurations to streamline your interactions with Voiceover.\nNavigate complex apps: Learn advanced techniques to navigate intricate apps like web browsers\, social media platforms\, entertainment\, productivity and more\, all with Voiceover guidance.\nBecome an app navigation expert: Master app-specific functionalities and Voiceover settings to overcome common challenges and unlock efficient workflows.\n\nThis workshop is ideal for: \n\nExperienced Voiceover users seeking to refine their skills and customize their experience.\nIndividuals comfortable with Voiceover basics who are ready to explore advanced settings and app-specific applications.\nAnyone who wants to become a Voiceover power user and maximize the accessibility potential of their iPhone.\n\n Prerequisites: This workshop assumes a solid understanding of fundamental Voiceover navigation and functionalities. \nFor additional information call 713-527-9561\, option 5 or email Training@HoustonLighthouse.org. \n  \nRegister Online\n\n\n                \n                        \n                            Voiceover Advanced Class\n							"*" indicates required fields \n                        					\n						Δ\n						\n						\n\n					\n                        FacebookThis field is for validation purposes and should be left unchanged.Name*\n                            \n                            \n                                                    First\n                                                    \n                                                \n                            \n                            \n                                                            Last\n                                                            \n                                                        \n                            \n                        Email*\n                            \n                        PhoneLevel of experience with VoiceoverAnything in particular you are looking to learn\, questions\, commentsAddress*    \n                    \n                         \n                                        Street Address\n                                        \n                                   \n                                    City\n                                    \n                                 \n                                        State\n                                        AlabamaAlaskaAmerican SamoaArizonaArkansasCaliforniaColoradoConnecticutDelawareDistrict of ColumbiaFloridaGeorgiaGuamHawaiiIdahoIllinoisIndianaIowaKansasKentuckyLouisianaMaineMarylandMassachusettsMichiganMinnesotaMississippiMissouriMontanaNebraskaNevadaNew HampshireNew JerseyNew MexicoNew YorkNorth CarolinaNorth DakotaNorthern Mariana IslandsOhioOklahomaOregonPennsylvaniaPuerto RicoRhode IslandSouth CarolinaSouth DakotaTennesseeTexasUtahU.S. Virgin IslandsVermontVirginiaWashingtonWest VirginiaWisconsinWyomingArmed Forces AmericasArmed Forces EuropeArmed Forces Pacific\n                                      \n                                    ZIP Code\n                                    \n                                \n                    \n                How did you hear about this event?Social MediaGoogleWord of MouthRefer a FriendPast ParticipantOtherRegister Today Quantity*\n					\n					\n						Price:\n						$15.00\n					\n					\n					 Quantity \n				Total\n							\n						Credit CardConfiguration Required: To use the Square field\, please configure your Square Settings.
URL:https://houstonlighthouse.org/event/unleash-your-voiceover-potential/2025-05-07/
LOCATION:The Lighthouse of Houston\, 3602 West Dallas\, Houston\, TX\, 77019\, United States
CATEGORIES:Technology and Employment Training
ATTACH;FMTTYPE=image/jpeg:https://eadn-wc02-10923896.nxedge.io/wp-content/uploads/2025/03/Voiceover-Class.jpg
GEO:29.7578318;-95.4071468
X-APPLE-STRUCTURED-LOCATION;VALUE=URI;X-ADDRESS=The Lighthouse of Houston 3602 West Dallas Houston TX 77019 United States;X-APPLE-RADIUS=500;X-TITLE=3602 West Dallas:geo:-95.4071468,29.7578318
END:VEVENT
BEGIN:VEVENT
DTSTART;TZID=America/Chicago:20250514T090000
DTEND;TZID=America/Chicago:20250514T110000
DTSTAMP:20260425T110755
CREATED:20240217T051954Z
LAST-MODIFIED:20240403T210353Z
UID:10002832-1747213200-1747220400@houstonlighthouse.org
SUMMARY:Microsoft Office Class - Morning
DESCRIPTION:This class is designed to increase a beginner’s confidence in the use of Microsoft Office Suite including\, word\, excel\, outlook\, other Microsoft Office apps and programs\, while using JAWS screen reader. You will learn key functions of each program\, JAWS shortcut commands\, and other tools and tips that will enhance your Microsoft Office Suite knowledge to help ensure your computer interaction is less stress and ready for success! \nPlease note\, a basic level of knowledge of JAWS is required to take this class. We offer training classes on JAWS; please contact us for more information. \nRegister Online\n\n                \n                        \n                            Microsoft Office Class Registration\n							"*" indicates required fields \n                        					\n						Δ\n						\n						\n\n					\n                        CompanyThis field is for validation purposes and should be left unchanged.Name*\n                            \n                            \n                                                    First\n                                                    \n                                                \n                            \n                            \n                                                            Last\n                                                            \n                                                        \n                            \n                        Email*\n                            \n                        PhoneLevel of experience with MicrosoftLevel of experience with JAWSAnything in particular you are looking to learn\, questions\, commentsAddress*    \n                    \n                         \n                                        Street Address\n                                        \n                                   \n                                    City\n                                    \n                                 \n                                        State\n                                        AlabamaAlaskaAmerican SamoaArizonaArkansasCaliforniaColoradoConnecticutDelawareDistrict of ColumbiaFloridaGeorgiaGuamHawaiiIdahoIllinoisIndianaIowaKansasKentuckyLouisianaMaineMarylandMassachusettsMichiganMinnesotaMississippiMissouriMontanaNebraskaNevadaNew HampshireNew JerseyNew MexicoNew YorkNorth CarolinaNorth DakotaNorthern Mariana IslandsOhioOklahomaOregonPennsylvaniaPuerto RicoRhode IslandSouth CarolinaSouth DakotaTennesseeTexasUtahU.S. Virgin IslandsVermontVirginiaWashingtonWest VirginiaWisconsinWyomingArmed Forces AmericasArmed Forces EuropeArmed Forces Pacific\n                                      \n                                    ZIP Code\n                                    \n                                \n                    \n                How did you hear about this event?Social MediaGoogleWord of MouthRefer a FriendPast ParticipantOtherNumber of Class Registrations Quantity*\n					\n					\n						Price:\n						$15.00\n					\n					\n					 Quantity \n				Total\n							\n						Credit CardConfiguration Required: To use the Square field\, please configure your Square Settings.
URL:https://houstonlighthouse.org/event/microsoft-office-class-morning/2025-05-14/
LOCATION:The Lighthouse of Houston\, 3602 West Dallas\, Houston\, TX\, 77019\, United States
CATEGORIES:Technology and Employment Training
ATTACH;FMTTYPE=image/jpeg:https://eadn-wc02-10923896.nxedge.io/wp-content/uploads/2024/02/Microsoft-Class.jpg
ORGANIZER;CN="The Lighthouse of Houston - Education and Training Department":MAILTO:training@houstonlighthouse.org
GEO:29.7578318;-95.4071468
X-APPLE-STRUCTURED-LOCATION;VALUE=URI;X-ADDRESS=The Lighthouse of Houston 3602 West Dallas Houston TX 77019 United States;X-APPLE-RADIUS=500;X-TITLE=3602 West Dallas:geo:-95.4071468,29.7578318
END:VEVENT
BEGIN:VEVENT
DTSTART;TZID=America/Chicago:20250528T130000
DTEND;TZID=America/Chicago:20250528T150000
DTSTAMP:20260425T110755
CREATED:20240217T052444Z
LAST-MODIFIED:20240403T210316Z
UID:10002892-1748437200-1748444400@houstonlighthouse.org
SUMMARY:Microsoft Office Class - Afternoon
DESCRIPTION:This class is designed to increase a beginner’s confidence in the use of Microsoft Office Suite including\, word\, excel\, outlook\, other Microsoft Office apps and programs\, while using JAWS screen reader. You will learn key functions of each program\, JAWS shortcut commands\, and other tools and tips that will enhance your Microsoft Office Suite knowledge to help ensure your computer interaction is less stress and ready for success! \nPlease note\, a basic level of knowledge of JAWS is required to take this class. We offer training classes on JAWS; please contact us for more information. \nRegister Online\n\n                \n                        \n                            Microsoft Office Class Registration\n							"*" indicates required fields \n                        					\n						Δ\n						\n						\n\n					\n                        PhoneThis field is for validation purposes and should be left unchanged.Name*\n                            \n                            \n                                                    First\n                                                    \n                                                \n                            \n                            \n                                                            Last\n                                                            \n                                                        \n                            \n                        Email*\n                            \n                        PhoneLevel of experience with MicrosoftLevel of experience with JAWSAnything in particular you are looking to learn\, questions\, commentsAddress*    \n                    \n                         \n                                        Street Address\n                                        \n                                   \n                                    City\n                                    \n                                 \n                                        State\n                                        AlabamaAlaskaAmerican SamoaArizonaArkansasCaliforniaColoradoConnecticutDelawareDistrict of ColumbiaFloridaGeorgiaGuamHawaiiIdahoIllinoisIndianaIowaKansasKentuckyLouisianaMaineMarylandMassachusettsMichiganMinnesotaMississippiMissouriMontanaNebraskaNevadaNew HampshireNew JerseyNew MexicoNew YorkNorth CarolinaNorth DakotaNorthern Mariana IslandsOhioOklahomaOregonPennsylvaniaPuerto RicoRhode IslandSouth CarolinaSouth DakotaTennesseeTexasUtahU.S. Virgin IslandsVermontVirginiaWashingtonWest VirginiaWisconsinWyomingArmed Forces AmericasArmed Forces EuropeArmed Forces Pacific\n                                      \n                                    ZIP Code\n                                    \n                                \n                    \n                How did you hear about this event?Social MediaGoogleWord of MouthRefer a FriendPast ParticipantOtherNumber of Class Registrations Quantity*\n					\n					\n						Price:\n						$15.00\n					\n					\n					 Quantity \n				Total\n							\n						Credit CardConfiguration Required: To use the Square field\, please configure your Square Settings.
URL:https://houstonlighthouse.org/event/microsoft-office-class-afternoon/2025-05-28/
LOCATION:The Lighthouse of Houston\, 3602 West Dallas\, Houston\, TX\, 77019\, United States
CATEGORIES:Technology and Employment Training
ATTACH;FMTTYPE=image/jpeg:https://eadn-wc02-10923896.nxedge.io/wp-content/uploads/2024/02/Microsoft-Class.jpg
ORGANIZER;CN="The Lighthouse of Houston - Education and Training Department":MAILTO:training@houstonlighthouse.org
GEO:29.7578318;-95.4071468
X-APPLE-STRUCTURED-LOCATION;VALUE=URI;X-ADDRESS=The Lighthouse of Houston 3602 West Dallas Houston TX 77019 United States;X-APPLE-RADIUS=500;X-TITLE=3602 West Dallas:geo:-95.4071468,29.7578318
END:VEVENT
END:VCALENDAR