BEGIN:VCALENDAR
VERSION:2.0
PRODID:-//The Lighthouse of Houston - ECPv6.15.20//NONSGML v1.0//EN
CALSCALE:GREGORIAN
METHOD:PUBLISH
X-ORIGINAL-URL:https://houstonlighthouse.org
X-WR-CALDESC:Events for The Lighthouse of Houston
REFRESH-INTERVAL;VALUE=DURATION:PT1H
X-Robots-Tag:noindex
X-PUBLISHED-TTL:PT1H
BEGIN:VTIMEZONE
TZID:America/Chicago
BEGIN:DAYLIGHT
TZOFFSETFROM:-0600
TZOFFSETTO:-0500
TZNAME:CDT
DTSTART:20260308T080000
END:DAYLIGHT
BEGIN:STANDARD
TZOFFSETFROM:-0500
TZOFFSETTO:-0600
TZNAME:CST
DTSTART:20261101T070000
END:STANDARD
BEGIN:DAYLIGHT
TZOFFSETFROM:-0600
TZOFFSETTO:-0500
TZNAME:CDT
DTSTART:20270314T080000
END:DAYLIGHT
BEGIN:STANDARD
TZOFFSETFROM:-0500
TZOFFSETTO:-0600
TZNAME:CST
DTSTART:20271107T070000
END:STANDARD
BEGIN:DAYLIGHT
TZOFFSETFROM:-0600
TZOFFSETTO:-0500
TZNAME:CDT
DTSTART:20280312T080000
END:DAYLIGHT
BEGIN:STANDARD
TZOFFSETFROM:-0500
TZOFFSETTO:-0600
TZNAME:CST
DTSTART:20281105T070000
END:STANDARD
END:VTIMEZONE
BEGIN:VEVENT
DTSTART;TZID=America/Chicago:20270106T110000
DTEND;TZID=America/Chicago:20270106T120000
DTSTAMP:20260424T205638
CREATED:20231018T143734Z
LAST-MODIFIED:20240404T183838Z
UID:10000453-1799233200-1799236800@houstonlighthouse.org
SUMMARY:Diabetes Support Group
DESCRIPTION:Learn about helpful resources while connecting with a community of new friends who understand the unique challenges of managing diabetes. Join us for companionship\, understanding\, and emotional support in a safe and welcoming environment.
URL:https://houstonlighthouse.org/event/diabetes-support-group/2027-01-06/
LOCATION:The Lighthouse of Houston\, 3602 West Dallas\, Houston\, TX\, 77019\, United States
CATEGORIES:Health Services
ATTACH;FMTTYPE=image/jpeg:https://eadn-wc02-10923896.nxedge.io/wp-content/uploads/2023/10/Diabetes.jpg
ORGANIZER;CN="Serena Valentine":MAILTO:COREInitiative@peoplenomix.org
GEO:29.7578318;-95.4071468
X-APPLE-STRUCTURED-LOCATION;VALUE=URI;X-ADDRESS=The Lighthouse of Houston 3602 West Dallas Houston TX 77019 United States;X-APPLE-RADIUS=500;X-TITLE=3602 West Dallas:geo:-95.4071468,29.7578318
END:VEVENT
BEGIN:VEVENT
DTSTART;TZID=America/Chicago:20270113T110000
DTEND;TZID=America/Chicago:20270113T120000
DTSTAMP:20260424T205638
CREATED:20231018T143734Z
LAST-MODIFIED:20240404T183838Z
UID:10000454-1799838000-1799841600@houstonlighthouse.org
SUMMARY:Diabetes Support Group
DESCRIPTION:Learn about helpful resources while connecting with a community of new friends who understand the unique challenges of managing diabetes. Join us for companionship\, understanding\, and emotional support in a safe and welcoming environment.
URL:https://houstonlighthouse.org/event/diabetes-support-group/2027-01-13/
LOCATION:The Lighthouse of Houston\, 3602 West Dallas\, Houston\, TX\, 77019\, United States
CATEGORIES:Health Services
ATTACH;FMTTYPE=image/jpeg:https://eadn-wc02-10923896.nxedge.io/wp-content/uploads/2023/10/Diabetes.jpg
ORGANIZER;CN="Serena Valentine":MAILTO:COREInitiative@peoplenomix.org
GEO:29.7578318;-95.4071468
X-APPLE-STRUCTURED-LOCATION;VALUE=URI;X-ADDRESS=The Lighthouse of Houston 3602 West Dallas Houston TX 77019 United States;X-APPLE-RADIUS=500;X-TITLE=3602 West Dallas:geo:-95.4071468,29.7578318
END:VEVENT
BEGIN:VEVENT
DTSTART;TZID=America/Chicago:20270120T110000
DTEND;TZID=America/Chicago:20270120T120000
DTSTAMP:20260424T205638
CREATED:20231018T143734Z
LAST-MODIFIED:20240404T183838Z
UID:10000455-1800442800-1800446400@houstonlighthouse.org
SUMMARY:Diabetes Support Group
DESCRIPTION:Learn about helpful resources while connecting with a community of new friends who understand the unique challenges of managing diabetes. Join us for companionship\, understanding\, and emotional support in a safe and welcoming environment.
URL:https://houstonlighthouse.org/event/diabetes-support-group/2027-01-20/
LOCATION:The Lighthouse of Houston\, 3602 West Dallas\, Houston\, TX\, 77019\, United States
CATEGORIES:Health Services
ATTACH;FMTTYPE=image/jpeg:https://eadn-wc02-10923896.nxedge.io/wp-content/uploads/2023/10/Diabetes.jpg
ORGANIZER;CN="Serena Valentine":MAILTO:COREInitiative@peoplenomix.org
GEO:29.7578318;-95.4071468
X-APPLE-STRUCTURED-LOCATION;VALUE=URI;X-ADDRESS=The Lighthouse of Houston 3602 West Dallas Houston TX 77019 United States;X-APPLE-RADIUS=500;X-TITLE=3602 West Dallas:geo:-95.4071468,29.7578318
END:VEVENT
BEGIN:VEVENT
DTSTART;TZID=America/Chicago:20270127T110000
DTEND;TZID=America/Chicago:20270127T120000
DTSTAMP:20260424T205638
CREATED:20231018T143734Z
LAST-MODIFIED:20240404T183838Z
UID:10000456-1801047600-1801051200@houstonlighthouse.org
SUMMARY:Diabetes Support Group
DESCRIPTION:Learn about helpful resources while connecting with a community of new friends who understand the unique challenges of managing diabetes. Join us for companionship\, understanding\, and emotional support in a safe and welcoming environment.
URL:https://houstonlighthouse.org/event/diabetes-support-group/2027-01-27/
LOCATION:The Lighthouse of Houston\, 3602 West Dallas\, Houston\, TX\, 77019\, United States
CATEGORIES:Health Services
ATTACH;FMTTYPE=image/jpeg:https://eadn-wc02-10923896.nxedge.io/wp-content/uploads/2023/10/Diabetes.jpg
ORGANIZER;CN="Serena Valentine":MAILTO:COREInitiative@peoplenomix.org
GEO:29.7578318;-95.4071468
X-APPLE-STRUCTURED-LOCATION;VALUE=URI;X-ADDRESS=The Lighthouse of Houston 3602 West Dallas Houston TX 77019 United States;X-APPLE-RADIUS=500;X-TITLE=3602 West Dallas:geo:-95.4071468,29.7578318
END:VEVENT
END:VCALENDAR